BEGIN:VCALENDAR
VERSION:2.0
PRODID:icalendar-ruby
CALSCALE:GREGORIAN
METHOD:PUBLISH
BEGIN:VEVENT
DTSTAMP:20260423T172549Z
UID:9-396901@guchurch.org
DTSTART:20261102T010000Z
DTEND:20261102T020000Z
CLASS:PUBLIC
CREATED:20260423T083724
DESCRIPTION:Sunday Evening Service
LAST-MODIFIED:20260423T083724
LOCATION:
SUMMARY:Sunday Evening Service
URL;VALUE=URI:https://www.guchurch.org/events/sunday-evening-service/2026-1
 1-01
ATTACH;FILENAME=IMG_0150.jpeg;FMTTYPE=image/jpeg:https://dq5pwpg1q8ru0.clou
 dfront.net/2025/08/26/14/16/42/5071f12f-105f-4f56-9bcb-4079bfe73802/IMG_01
 50.jpeg
END:VEVENT
END:VCALENDAR
