BEGIN:VCALENDAR
VERSION:2.0
PRODID:icalendar-ruby
CALSCALE:GREGORIAN
METHOD:PUBLISH
BEGIN:VEVENT
DTSTAMP:20260423T121547Z
UID:9-396298@guchurch.org
DTSTART:20261012T000000Z
DTEND:20261012T010000Z
CLASS:PUBLIC
CREATED:20260422T201444
DESCRIPTION:Sunday Evening Service
LAST-MODIFIED:20260422T201444
LOCATION:
SUMMARY:Sunday Evening Service
URL;VALUE=URI:https://www.guchurch.org/events/sunday-evening-service/2026-1
 0-11
ATTACH;FILENAME=IMG_0150.jpeg;FMTTYPE=image/jpeg:https://dq5pwpg1q8ru0.clou
 dfront.net/2025/08/26/14/16/42/5071f12f-105f-4f56-9bcb-4079bfe73802/IMG_01
 50.jpeg
END:VEVENT
END:VCALENDAR
