BEGIN:VCALENDAR
VERSION:2.0
PRODID:icalendar-ruby
CALSCALE:GREGORIAN
METHOD:PUBLISH
BEGIN:VEVENT
DTSTAMP:20260420T235049Z
UID:9-392408@guchurch.org
DTSTART:20260921T000000Z
DTEND:20260921T010000Z
CLASS:PUBLIC
CREATED:20260420T154459
DESCRIPTION:Sunday Evening Service
LAST-MODIFIED:20260420T154459
LOCATION:
SUMMARY:Sunday Evening Service
URL;VALUE=URI:https://www.guchurch.org/events/sunday-evening-service/2026-0
 9-20
ATTACH;FILENAME=IMG_0150.jpeg;FMTTYPE=image/jpeg:https://dq5pwpg1q8ru0.clou
 dfront.net/2025/08/26/14/16/42/5071f12f-105f-4f56-9bcb-4079bfe73802/IMG_01
 50.jpeg
END:VEVENT
END:VCALENDAR
