BEGIN:VCALENDAR
VERSION:2.0
PRODID:icalendar-ruby
CALSCALE:GREGORIAN
METHOD:PUBLISH
BEGIN:VEVENT
DTSTAMP:20260420T165930Z
UID:11-391628@guchurch.org
DTSTART:20260817T010000Z
DTEND:20260817T020000Z
CLASS:PUBLIC
CREATED:20260420T075959
DESCRIPTION:College and Career Bible Study
LAST-MODIFIED:20260420T075959
LOCATION:
SUMMARY:College and Career Bible Study
URL;VALUE=URI:https://www.guchurch.org/events/college-and-career-bible-stud
 y/2026-08-16
ATTACH;FILENAME=IMG_0144.jpeg;FMTTYPE=image/jpeg:https://dq5pwpg1q8ru0.clou
 dfront.net/2025/09/03/21/30/28/df8247ba-5029-403b-905a-9633e8ea75b4/IMG_01
 44.jpeg
END:VEVENT
END:VCALENDAR
